BEGIN:VCALENDAR
VERSION:2.0
PRODID:-//Maison Solutions - ECPv6.15.20//NONSGML v1.0//EN
CALSCALE:GREGORIAN
METHOD:PUBLISH
X-ORIGINAL-URL:https://maison.solutions
X-WR-CALDESC:Events for Maison Solutions
REFRESH-INTERVAL;VALUE=DURATION:PT1H
X-Robots-Tag:noindex
X-PUBLISHED-TTL:PT1H
BEGIN:VTIMEZONE
TZID:Europe/Tallinn
BEGIN:DAYLIGHT
TZOFFSETFROM:+0200
TZOFFSETTO:+0300
TZNAME:EEST
DTSTART:20250330T010000
END:DAYLIGHT
BEGIN:STANDARD
TZOFFSETFROM:+0300
TZOFFSETTO:+0200
TZNAME:EET
DTSTART:20251026T010000
END:STANDARD
BEGIN:DAYLIGHT
TZOFFSETFROM:+0200
TZOFFSETTO:+0300
TZNAME:EEST
DTSTART:20260329T010000
END:DAYLIGHT
BEGIN:STANDARD
TZOFFSETFROM:+0300
TZOFFSETTO:+0200
TZNAME:EET
DTSTART:20261025T010000
END:STANDARD
BEGIN:DAYLIGHT
TZOFFSETFROM:+0200
TZOFFSETTO:+0300
TZNAME:EEST
DTSTART:20270328T010000
END:DAYLIGHT
BEGIN:STANDARD
TZOFFSETFROM:+0300
TZOFFSETTO:+0200
TZNAME:EET
DTSTART:20271031T010000
END:STANDARD
END:VTIMEZONE
BEGIN:VEVENT
DTSTART;TZID=Europe/Tallinn:20260421T000000
DTEND;TZID=Europe/Tallinn:20260421T235959
DTSTAMP:20260424T153009
CREATED:20250122T085909Z
LAST-MODIFIED:20260325T063851Z
UID:17291-1776729600-1776815999@maison.solutions
SUMMARY:Ehitame koos e-poe 2025
DESCRIPTION:ME ELAME DIGIAJASTUS – kursus toimub 2025 trende arvestavalt ja uueneb pidevalt! \n\n\n\n\n\n\n\nKlikka logol ja vaata kuu ajaga valminud e-poodi. Kas midagi sellist soovid ka endale? \n\n\n\nAga hakkame siis tegutsema! \n\n\n\nKURSUSE KAVA JA LISAINFO: \n\n\n\n\n\n\n\n\n\n				\n					\n    \n    \n    \n\n				\n			\n\n\nDünaamiline kalender\n\n\n\nMaison kursuste kalendriga püüame luua osaleja maksimaalse füüsilise kohalolu igas tunnis \n\n\n\n\n\n				\n					\n\n				\n			\n\n\nIndividuaalne lähenemine\n\n\n\nÕpe arvestab grupi iga liikme individuaalsust – pühendume Sinu praktilistele vajadustele \n\n\n\n\n\nTULEMUS? Sulle tekib reaalne toimiv e-pood\, mis on prototüübiks kas sinu enese vajadustele või annab hea praktilise õppematerjali järgmiste poodide loomiseks ning nende pakkumiseks teenusena ettevõtjatele\, MTÜ-dele või huvitatud isikutele.
URL:https://maison.solutions/event/ehitame-koos-e-poe-3/
LOCATION:Kursused ja konsultatsioonid üle Eesti\, Estonia
CATEGORIES:Digioskus, e-turundus,Маркетинг,Eestikeelne kursus,Turundus,Veebiõpe
ATTACH;FMTTYPE=image/jpeg:https://maison.solutions/wp-content/uploads/2024/12/E-commerce.jpg
END:VEVENT
END:VCALENDAR